BEGIN:VCALENDAR
VERSION:2.0
CALSCALE:GREGORIAN
BEGIN:VEVENT
URL:https://www.learndesk.us/class/6365240159633408/lesson/ddcd3a0cfc2080d7bfbb6c7e182cdc92?ref=outlook-calendar
SUMMARY:MacBook Pro 13 Inches Bottom Case Replacement
DTSTART;TZID=America/Los_Angeles:20260421T190000
DTEND;TZID=America/Los_Angeles:20260421T200000
LOCATION:https://www.learndesk.us/class/6365240159633408/lesson/ddcd3a0cfc2080d7bfbb6c7e182cdc92?ref=outlook-calendar
DESCRIPTION: MacBook Pro 13 Inches Bottom Case Replacement

https://www.learndesk.us/class/6365240159633408/lesson/ddcd3a0cfc2080d7bfbb6c7e182cdc92?ref=outlook-calendar
STATUS:CONFIRMED
SEQUENCE:3
BEGIN:VALARM
TRIGGER:-PT10M
DESCRIPTION:Class Reminder
ACTION:DISPLAY
END:VALARM
END:VEVENT
END:VCALENDAR