BEGIN:VCALENDAR
VERSION:2.0
CALSCALE:GREGORIAN
BEGIN:VEVENT
URL:https://www.learndesk.us/class/6365240159633408/mac-hardware-troubleshooting-and-quick-fixes-by-yourself?ref=outlook-calendar
SUMMARY:Mac Hardware Troubleshooting and Quick Fixes by Yourself
DTSTART;TZID=America/Los_Angeles:20260421T190000
DTEND;TZID=America/Los_Angeles:20260421T200000
LOCATION:https://www.learndesk.us/class/6365240159633408/mac-hardware-troubleshooting-and-quick-fixes-by-yourself?ref=outlook-calendar
DESCRIPTION: In this course, you will learn the troubleshooting process of Mac hardware and quickly fix it by yourself. You will learn how to replace the battery, display, and fan in MacBook Pro. Also, you will learn how to open the back case of MacBook Pro.

https://www.learndesk.us/class/6365240159633408/mac-hardware-troubleshooting-and-quick-fixes-by-yourself?ref=outlook-calendar
STATUS:CONFIRMED
SEQUENCE:3
BEGIN:VALARM
TRIGGER:-PT10M
DESCRIPTION:Class Reminder
ACTION:DISPLAY
END:VALARM
END:VEVENT
END:VCALENDAR