BEGIN:VCALENDAR
VERSION:2.0
CALSCALE:GREGORIAN
BEGIN:VEVENT
URL:https://www.learndesk.us/class/6360083296419840/lesson/a34b2af02c892b79befbe18f50a65369?ref=outlook-calendar
SUMMARY:Module Eleven: Alternatives to Meetings
DTSTART;TZID=America/Los_Angeles:20260420T190000
DTEND;TZID=America/Los_Angeles:20260420T200000
LOCATION:https://www.learndesk.us/class/6360083296419840/lesson/a34b2af02c892b79befbe18f50a65369?ref=outlook-calendar
DESCRIPTION: https://www.learndesk.us/class/6360083296419840/lesson/a34b2af02c892b79befbe18f50a65369?ref=outlook-calendar
STATUS:CONFIRMED
SEQUENCE:3
BEGIN:VALARM
TRIGGER:-PT10M
DESCRIPTION:Class Reminder
ACTION:DISPLAY
END:VALARM
END:VEVENT
END:VCALENDAR