BEGIN:VCALENDAR
VERSION:2.0
CALSCALE:GREGORIAN
BEGIN:VEVENT
URL:https://www.learndesk.us/class/6360083296419840/lesson/888f96a8bcaf7da503b99fd68e28baa5?ref=outlook-calendar
SUMMARY:Module 8: Video Lesson
DTSTART;TZID=America/Los_Angeles:20260422T190000
DTEND;TZID=America/Los_Angeles:20260422T200000
LOCATION:https://www.learndesk.us/class/6360083296419840/lesson/888f96a8bcaf7da503b99fd68e28baa5?ref=outlook-calendar
DESCRIPTION: https://www.learndesk.us/class/6360083296419840/lesson/888f96a8bcaf7da503b99fd68e28baa5?ref=outlook-calendar
STATUS:CONFIRMED
SEQUENCE:3
BEGIN:VALARM
TRIGGER:-PT10M
DESCRIPTION:Class Reminder
ACTION:DISPLAY
END:VALARM
END:VEVENT
END:VCALENDAR