BEGIN:VCALENDAR
VERSION:2.0
CALSCALE:GREGORIAN
BEGIN:VEVENT
URL:https://www.learndesk.us/class/6360083296419840/lesson/5b9927497ab8d253fd1f4f2324d51360?ref=outlook-calendar
SUMMARY:Module 9: Video Lesson
DTSTART;TZID=America/Los_Angeles:20260420T190000
DTEND;TZID=America/Los_Angeles:20260420T200000
LOCATION:https://www.learndesk.us/class/6360083296419840/lesson/5b9927497ab8d253fd1f4f2324d51360?ref=outlook-calendar
DESCRIPTION: https://www.learndesk.us/class/6360083296419840/lesson/5b9927497ab8d253fd1f4f2324d51360?ref=outlook-calendar
STATUS:CONFIRMED
SEQUENCE:3
BEGIN:VALARM
TRIGGER:-PT10M
DESCRIPTION:Class Reminder
ACTION:DISPLAY
END:VALARM
END:VEVENT
END:VCALENDAR