BEGIN:VCALENDAR
VERSION:2.0
CALSCALE:GREGORIAN
BEGIN:VEVENT
URL:https://www.learndesk.us/class/6360083296419840/lesson/4e8e5da6ab13cf47ab0d45cc0bbdc991?ref=outlook-calendar
SUMMARY:Module Two: Setting SMART Goals
DTSTART;TZID=America/Los_Angeles:20260420T190000
DTEND;TZID=America/Los_Angeles:20260420T200000
LOCATION:https://www.learndesk.us/class/6360083296419840/lesson/4e8e5da6ab13cf47ab0d45cc0bbdc991?ref=outlook-calendar
DESCRIPTION: https://www.learndesk.us/class/6360083296419840/lesson/4e8e5da6ab13cf47ab0d45cc0bbdc991?ref=outlook-calendar
STATUS:CONFIRMED
SEQUENCE:3
BEGIN:VALARM
TRIGGER:-PT10M
DESCRIPTION:Class Reminder
ACTION:DISPLAY
END:VALARM
END:VEVENT
END:VCALENDAR