BEGIN:VCALENDAR
VERSION:2.0
CALSCALE:GREGORIAN
BEGIN:VEVENT
URL:https://www.learndesk.us/class/6360083296419840/effective-time-management-in-the-workplace?ref=outlook-calendar
SUMMARY:Effective Time Management in the Workplace
DTSTART;TZID=America/Los_Angeles:20260420T190000
DTEND;TZID=America/Los_Angeles:20260420T200000
LOCATION:https://www.learndesk.us/class/6360083296419840/effective-time-management-in-the-workplace?ref=outlook-calendar
DESCRIPTION: 
Personal time management skills are essential for professional success in any workplace. Those able to successfully implement time management strategies are able to control their workload rather than spend each day in a frenzy of activity reacting to crisis after crisis - stress declines and personal productivity soars. These highly effective individuals are able to focus on the tasks with the greatest impact on them and their organization. The Time Management course will cover strategies to help participants learn these crucial strategies. Participants will be given a skill set that includes personal motivation, delegation skills, organization tools, and crisis management. We’ll cover all this and more during this course.
What will you learn in this course?

Plan and prioritize each day’s activities in a more efficient, productive manner
Overcome procrastination quickly and easily
Handle crises effectively and quickly
Organize your workspace and workflow to make better use of...

https://www.learndesk.us/class/6360083296419840/effective-time-management-in-the-workplace?ref=outlook-calendar
STATUS:CONFIRMED
SEQUENCE:3
BEGIN:VALARM
TRIGGER:-PT10M
DESCRIPTION:Class Reminder
ACTION:DISPLAY
END:VALARM
END:VEVENT
END:VCALENDAR