BEGIN:VCALENDAR
VERSION:2.0
CALSCALE:GREGORIAN
BEGIN:VEVENT
URL:https://www.learndesk.us/class/6357159275134976/lesson/8b5b183d2ac67194398b2e2d58edc689?ref=outlook-calendar
SUMMARY:Conclusion
DTSTART;TZID=America/Los_Angeles:20260424T190000
DTEND;TZID=America/Los_Angeles:20260424T200000
LOCATION:https://www.learndesk.us/class/6357159275134976/lesson/8b5b183d2ac67194398b2e2d58edc689?ref=outlook-calendar
DESCRIPTION: https://www.learndesk.us/class/6357159275134976/lesson/8b5b183d2ac67194398b2e2d58edc689?ref=outlook-calendar
STATUS:CONFIRMED
SEQUENCE:3
BEGIN:VALARM
TRIGGER:-PT10M
DESCRIPTION:Class Reminder
ACTION:DISPLAY
END:VALARM
END:VEVENT
END:VCALENDAR