BEGIN:VCALENDAR
VERSION:2.0
CALSCALE:GREGORIAN
BEGIN:VEVENT
URL:https://www.learndesk.us/class/6353015923539968/lesson/cf47560357cc9810251295986f2056fc?ref=outlook-calendar
SUMMARY:Now What?
DTSTART;TZID=America/Los_Angeles:20260424T190000
DTEND;TZID=America/Los_Angeles:20260424T200000
LOCATION:https://www.learndesk.us/class/6353015923539968/lesson/cf47560357cc9810251295986f2056fc?ref=outlook-calendar
DESCRIPTION: 

then submit your name and email address at THIS LINK



https://www.learndesk.us/class/6353015923539968/lesson/cf47560357cc9810251295986f2056fc?ref=outlook-calendar
STATUS:CONFIRMED
SEQUENCE:3
BEGIN:VALARM
TRIGGER:-PT10M
DESCRIPTION:Class Reminder
ACTION:DISPLAY
END:VALARM
END:VEVENT
END:VCALENDAR