BEGIN:VCALENDAR
VERSION:2.0
CALSCALE:GREGORIAN
BEGIN:VEVENT
URL:https://www.learndesk.us/class/6353015923539968/lesson/7562ee68605ff932aff7e22b534ec273?ref=outlook-calendar
SUMMARY:Instructions Part C: The Details
DTSTART;TZID=America/Los_Angeles:20260424T190000
DTEND;TZID=America/Los_Angeles:20260424T200000
LOCATION:https://www.learndesk.us/class/6353015923539968/lesson/7562ee68605ff932aff7e22b534ec273?ref=outlook-calendar
DESCRIPTION: 


https://www.learndesk.us/class/6353015923539968/lesson/7562ee68605ff932aff7e22b534ec273?ref=outlook-calendar
STATUS:CONFIRMED
SEQUENCE:3
BEGIN:VALARM
TRIGGER:-PT10M
DESCRIPTION:Class Reminder
ACTION:DISPLAY
END:VALARM
END:VEVENT
END:VCALENDAR