BEGIN:VCALENDAR
VERSION:2.0
CALSCALE:GREGORIAN
BEGIN:VEVENT
URL:https://www.learndesk.us/class/6353015923539968/lesson/570386eb6e5e341b604c24b87710c9fe?ref=outlook-calendar
SUMMARY:Lesson 7 (Day 7)
DTSTART;TZID=America/Los_Angeles:20260424T190000
DTEND;TZID=America/Los_Angeles:20260424T200000
LOCATION:https://www.learndesk.us/class/6353015923539968/lesson/570386eb6e5e341b604c24b87710c9fe?ref=outlook-calendar
DESCRIPTION: 




If you've thought about working with someone but you're not sure of the difference between therapy and coaching, check out this&nbsp;free course: How to Choose Between Coaching and Therapy (currently in development &mdash; leave your name HERE if you'd like to be notified when this course is in beta mode and you can get FREE access)
If you'd like to explore working with Kevin Bergen, the author of this course,

California residents interested in therapy: www.kevinbergen.com
Anyone worldwide interested in coaching: www.courageousdecisions.com








https://www.learndesk.us/class/6353015923539968/lesson/570386eb6e5e341b604c24b87710c9fe?ref=outlook-calendar
STATUS:CONFIRMED
SEQUENCE:3
BEGIN:VALARM
TRIGGER:-PT10M
DESCRIPTION:Class Reminder
ACTION:DISPLAY
END:VALARM
END:VEVENT
END:VCALENDAR