BEGIN:VCALENDAR
VERSION:2.0
CALSCALE:GREGORIAN
BEGIN:VEVENT
URL:https://www.learndesk.us/class/6353015923539968/lesson/2ce22584eb94e5f5aea408a37f52d978?ref=outlook-calendar
SUMMARY:Instructions Part B: The 5 Quick Steps
DTSTART;TZID=America/Los_Angeles:20260424T190000
DTEND;TZID=America/Los_Angeles:20260424T200000
LOCATION:https://www.learndesk.us/class/6353015923539968/lesson/2ce22584eb94e5f5aea408a37f52d978?ref=outlook-calendar
DESCRIPTION: 

https://www.learndesk.us/class/6353015923539968/lesson/2ce22584eb94e5f5aea408a37f52d978?ref=outlook-calendar
STATUS:CONFIRMED
SEQUENCE:3
BEGIN:VALARM
TRIGGER:-PT10M
DESCRIPTION:Class Reminder
ACTION:DISPLAY
END:VALARM
END:VEVENT
END:VCALENDAR