BEGIN:VCALENDAR
VERSION:2.0
CALSCALE:GREGORIAN
BEGIN:VEVENT
URL:https://www.learndesk.us/class/6353015923539968/lesson/25e213031f1ffd3d6a45dc0cee2d58b4?ref=outlook-calendar
SUMMARY:Lesson 3 (Day 3)
DTSTART;TZID=America/Los_Angeles:20260424T190000
DTEND;TZID=America/Los_Angeles:20260424T200000
LOCATION:https://www.learndesk.us/class/6353015923539968/lesson/25e213031f1ffd3d6a45dc0cee2d58b4?ref=outlook-calendar
DESCRIPTION: 






https://www.learndesk.us/class/6353015923539968/lesson/25e213031f1ffd3d6a45dc0cee2d58b4?ref=outlook-calendar
STATUS:CONFIRMED
SEQUENCE:3
BEGIN:VALARM
TRIGGER:-PT10M
DESCRIPTION:Class Reminder
ACTION:DISPLAY
END:VALARM
END:VEVENT
END:VCALENDAR