BEGIN:VCALENDAR
VERSION:2.0
CALSCALE:GREGORIAN
BEGIN:VEVENT
URL:https://www.learndesk.us/class/6353015923539968/lesson/1a300a157ed48c801fc099ca07aca933?ref=outlook-calendar
SUMMARY:Welcome • Purpose • Goal
DTSTART;TZID=America/Los_Angeles:20260424T190000
DTEND;TZID=America/Los_Angeles:20260424T200000
LOCATION:https://www.learndesk.us/class/6353015923539968/lesson/1a300a157ed48c801fc099ca07aca933?ref=outlook-calendar
DESCRIPTION: In this section, you'll find

Welcome to the course,
An introduction to how the course is laid out,
The course goals, and
Directions for proceeding


https://www.learndesk.us/class/6353015923539968/lesson/1a300a157ed48c801fc099ca07aca933?ref=outlook-calendar
STATUS:CONFIRMED
SEQUENCE:3
BEGIN:VALARM
TRIGGER:-PT10M
DESCRIPTION:Class Reminder
ACTION:DISPLAY
END:VALARM
END:VEVENT
END:VCALENDAR