BEGIN:VCALENDAR
VERSION:2.0
CALSCALE:GREGORIAN
BEGIN:VEVENT
URL:https://www.learndesk.us/class/6353015923539968/learn-therapeutic-writing?ref=outlook-calendar
SUMMARY:Therapy Substitute: 0027
DTSTART;TZID=America/Los_Angeles:20260424T190000
DTEND;TZID=America/Los_Angeles:20260424T200000
LOCATION:https://www.learndesk.us/class/6353015923539968/learn-therapeutic-writing?ref=outlook-calendar
DESCRIPTION: 
Sometimes psychotherapy just isn't an option.
This is course is a substitute for therapy when it's not possible otherwise.&nbsp;
This course is Not&nbsp;a replacement for therapy. And it's definitely not a therapy itself.

What will you learn in this course?
With this course, you'll learn one method to uncover things to work on. This kind of therapeutic writing is also an effective way to begin working on what you uncover.
There are many ways to write and many things to write about.
This course will benefit you:

If you already love to write.
If you haven't written much, and even.
If you hate to write.

In any case, you've never been able to write quite like this.
Take this course if you're ready to discover how writing can be.

Nurturing,
An adventure in discovery about yourself, and
Helpful to your mood, confidence, and peace of mind.


https://www.learndesk.us/class/6353015923539968/learn-therapeutic-writing?ref=outlook-calendar
STATUS:CONFIRMED
SEQUENCE:3
BEGIN:VALARM
TRIGGER:-PT10M
DESCRIPTION:Class Reminder
ACTION:DISPLAY
END:VALARM
END:VEVENT
END:VCALENDAR