BEGIN:VCALENDAR
VERSION:2.0
CALSCALE:GREGORIAN
BEGIN:VEVENT
URL:https://www.learndesk.us/class/6317583735193600/lesson/c3a4da45addc771ae42834f74659cb05?ref=outlook-calendar
SUMMARY:Privacy Governance
DTSTART;TZID=America/Los_Angeles:20260423T190000
DTEND;TZID=America/Los_Angeles:20260423T200000
LOCATION:https://www.learndesk.us/class/6317583735193600/lesson/c3a4da45addc771ae42834f74659cb05?ref=outlook-calendar
DESCRIPTION: https://www.learndesk.us/class/6317583735193600/lesson/c3a4da45addc771ae42834f74659cb05?ref=outlook-calendar
STATUS:CONFIRMED
SEQUENCE:3
BEGIN:VALARM
TRIGGER:-PT10M
DESCRIPTION:Class Reminder
ACTION:DISPLAY
END:VALARM
END:VEVENT
END:VCALENDAR