BEGIN:VCALENDAR
VERSION:2.0
CALSCALE:GREGORIAN
BEGIN:VEVENT
URL:https://www.learndesk.us/class/6317583735193600/lesson/65e13f7e1bb2d2f698e2021c91b12a69?ref=outlook-calendar
SUMMARY:Security Compliance
DTSTART;TZID=America/Los_Angeles:20260423T190000
DTEND;TZID=America/Los_Angeles:20260423T200000
LOCATION:https://www.learndesk.us/class/6317583735193600/lesson/65e13f7e1bb2d2f698e2021c91b12a69?ref=outlook-calendar
DESCRIPTION: https://www.learndesk.us/class/6317583735193600/lesson/65e13f7e1bb2d2f698e2021c91b12a69?ref=outlook-calendar
STATUS:CONFIRMED
SEQUENCE:3
BEGIN:VALARM
TRIGGER:-PT10M
DESCRIPTION:Class Reminder
ACTION:DISPLAY
END:VALARM
END:VEVENT
END:VCALENDAR