BEGIN:VCALENDAR
VERSION:2.0
CALSCALE:GREGORIAN
BEGIN:VEVENT
URL:https://www.learndesk.us/class/6317583735193600/microsoft-teams-for-it?ref=outlook-calendar
SUMMARY:Microsoft Teams for IT
DTSTART;TZID=America/Los_Angeles:20260423T190000
DTEND;TZID=America/Los_Angeles:20260423T200000
LOCATION:https://www.learndesk.us/class/6317583735193600/microsoft-teams-for-it?ref=outlook-calendar
DESCRIPTION: 1 About this workshop

This course will help you to pass the Ms-300 exam and is part of 4 courses (soon ready)
I have added in this course 3 other videos for free
Sharepoint, Onedrive, and Teams for end users. So fantastic time for you to jump to collaboration

In this course, you will learn how to plan, deploy and manage Microsoft teams. Specifically, this course discusses the relationship of Teams with SharePoint, OneDrive, and Office 365 Groups. It provides best practices for the adoption and deployment of Teams within your organization. It also covers how to establish guest policies and data governance for your Team's data.
The Microsoft 365 Teamwork Administrator learning track helps prepare for Microsoft 365.
Certified: Deploying Microsoft 365 Teamwork (exam MS-300) is composed of the following courses:

MS-300.1 Managing Office 365 Content Services
MS-300.2 Managing SharePoint Online
MS-300.3 Enabling Microsoft Teams for Collaboration (this is the actual course)
MS-300.4...

https://www.learndesk.us/class/6317583735193600/microsoft-teams-for-it?ref=outlook-calendar
STATUS:CONFIRMED
SEQUENCE:3
BEGIN:VALARM
TRIGGER:-PT10M
DESCRIPTION:Class Reminder
ACTION:DISPLAY
END:VALARM
END:VEVENT
END:VCALENDAR