BEGIN:VCALENDAR
VERSION:2.0
CALSCALE:GREGORIAN
BEGIN:VEVENT
URL:https://www.learndesk.us/class/6316976454500352/lesson/82e742a73a5fd6bb961cc9f80a01c163?ref=outlook-calendar
SUMMARY:The Cherry on Top Class Notes
DTSTART;TZID=America/Los_Angeles:20260421T190000
DTEND;TZID=America/Los_Angeles:20260421T200000
LOCATION:https://www.learndesk.us/class/6316976454500352/lesson/82e742a73a5fd6bb961cc9f80a01c163?ref=outlook-calendar
DESCRIPTION: https://www.learndesk.us/class/6316976454500352/lesson/82e742a73a5fd6bb961cc9f80a01c163?ref=outlook-calendar
STATUS:CONFIRMED
SEQUENCE:3
BEGIN:VALARM
TRIGGER:-PT10M
DESCRIPTION:Class Reminder
ACTION:DISPLAY
END:VALARM
END:VEVENT
END:VCALENDAR