BEGIN:VCALENDAR
VERSION:2.0
CALSCALE:GREGORIAN
BEGIN:VEVENT
URL:https://www.learndesk.us/class/6305191596916736/lesson/c4c6ea52419cd3b76d8ad7bfaa5d763b?ref=outlook-calendar
SUMMARY:Edit and Add Caption to Your Video
DTSTART;TZID=America/Los_Angeles:20260420T190000
DTEND;TZID=America/Los_Angeles:20260420T200000
LOCATION:https://www.learndesk.us/class/6305191596916736/lesson/c4c6ea52419cd3b76d8ad7bfaa5d763b?ref=outlook-calendar
DESCRIPTION: https://www.learndesk.us/class/6305191596916736/lesson/c4c6ea52419cd3b76d8ad7bfaa5d763b?ref=outlook-calendar
STATUS:CONFIRMED
SEQUENCE:3
BEGIN:VALARM
TRIGGER:-PT10M
DESCRIPTION:Class Reminder
ACTION:DISPLAY
END:VALARM
END:VEVENT
END:VCALENDAR