BEGIN:VCALENDAR
VERSION:2.0
CALSCALE:GREGORIAN
BEGIN:VEVENT
URL:https://www.learndesk.us/class/6305191596916736/lesson/9855f3f815eaa30948ca47aa8be0aa5a?ref=outlook-calendar
SUMMARY:Solids and Adjustments
DTSTART;TZID=America/Los_Angeles:20260420T190000
DTEND;TZID=America/Los_Angeles:20260420T200000
LOCATION:https://www.learndesk.us/class/6305191596916736/lesson/9855f3f815eaa30948ca47aa8be0aa5a?ref=outlook-calendar
DESCRIPTION: https://www.learndesk.us/class/6305191596916736/lesson/9855f3f815eaa30948ca47aa8be0aa5a?ref=outlook-calendar
STATUS:CONFIRMED
SEQUENCE:3
BEGIN:VALARM
TRIGGER:-PT10M
DESCRIPTION:Class Reminder
ACTION:DISPLAY
END:VALARM
END:VEVENT
END:VCALENDAR