BEGIN:VCALENDAR
VERSION:2.0
CALSCALE:GREGORIAN
BEGIN:VEVENT
URL:https://www.learndesk.us/class/6285768840445952/personalised-poetry-journal-course?ref=outlook-calendar
SUMMARY:Personalised Poetry Journal Course
DTSTART;TZID=America/Los_Angeles:20260421T190000
DTEND;TZID=America/Los_Angeles:20260421T200000
LOCATION:https://www.learndesk.us/class/6285768840445952/personalised-poetry-journal-course?ref=outlook-calendar
DESCRIPTION: 
The Personalised Poetry Journal Course is for anyone. Parents, Carers, Professionals, or Young People themselves can take the course.
The course encompasses an approach of equality meaning anyone who has a health condition, disability, or visual impairment can enjoy the creation of a Personalised Poetry Journal.
Communication is a key focus within the course and so is Non-verbal communication.
People will discover creative expression, relief, peace, and fun within this course.
The course provides ongoing self-directed creative development.


https://www.learndesk.us/class/6285768840445952/personalised-poetry-journal-course?ref=outlook-calendar
STATUS:CONFIRMED
SEQUENCE:3
BEGIN:VALARM
TRIGGER:-PT10M
DESCRIPTION:Class Reminder
ACTION:DISPLAY
END:VALARM
END:VEVENT
END:VCALENDAR