BEGIN:VCALENDAR
VERSION:2.0
CALSCALE:GREGORIAN
BEGIN:VEVENT
URL:https://www.learndesk.us/class/6272162908340224/lesson/fa02263ee91bfdddb6e1b628461cbb6f?ref=outlook-calendar
SUMMARY:Quiz
DTSTART;TZID=America/Los_Angeles:20260424T190000
DTEND;TZID=America/Los_Angeles:20260424T200000
LOCATION:https://www.learndesk.us/class/6272162908340224/lesson/fa02263ee91bfdddb6e1b628461cbb6f?ref=outlook-calendar
DESCRIPTION: Microsoft and Amazon proved that their lucrative cloud businesses were continuing to expand even as the economy cools. Alphabet&rsquo;s subsidiary, Google, demonstrated that search advertisements remained in demand among travel companies and retailers. And Apple papered over a downturn in its device business by increasing its sales of apps and subscription services.Collectively, it was a sign that tech may have already hit a bottom and is beginning to rebound, said Dave Harden, the chief investment officer at Summit Global, a firm near Salt Lake City with about $2 billion under investment that counts Apple among its holdings.

https://www.learndesk.us/class/6272162908340224/lesson/fa02263ee91bfdddb6e1b628461cbb6f?ref=outlook-calendar
STATUS:CONFIRMED
SEQUENCE:3
BEGIN:VALARM
TRIGGER:-PT10M
DESCRIPTION:Class Reminder
ACTION:DISPLAY
END:VALARM
END:VEVENT
END:VCALENDAR