BEGIN:VCALENDAR
VERSION:2.0
CALSCALE:GREGORIAN
BEGIN:VEVENT
URL:https://www.learndesk.us/class/6272162908340224/lesson/f3867daad34fde893b36413da666f518?ref=outlook-calendar
SUMMARY:Video Test
DTSTART;TZID=America/Los_Angeles:20260424T190000
DTEND;TZID=America/Los_Angeles:20260424T200000
LOCATION:https://www.learndesk.us/class/6272162908340224/lesson/f3867daad34fde893b36413da666f518?ref=outlook-calendar
DESCRIPTION: 


And former Secretary of State Colin Powell announced on Sunday that he will vote for Mr. Biden, telling CNN that Mr. Trump &ldquo;lies about things&rdquo; and Republicans in Congress won&rsquo;t hold him accountable. Mr. Powell, who voted for former President Barack Obama as well as Hillary Clinton, said he was close to Mr. Biden politically and socially and had worked with him for more than 35 years. &ldquo;I&rsquo;ll be voting for him,&rdquo; he said.





&nbsp;










&nbsp;
Former Secretary of State Colin Powell said he would vote for Joe Biden, telling CNN that President Trump &ldquo;lies about things.&rdquo;Credit...Drew Angerer/Getty Images



None of these Republicans voted for Mr. Trump in 2016, but the reproach of big Republican names carries a different weight when an incumbent president and his shared agenda with Senate leaders are on the line.




https://www.learndesk.us/class/6272162908340224/lesson/f3867daad34fde893b36413da666f518?ref=outlook-calendar
STATUS:CONFIRMED
SEQUENCE:3
BEGIN:VALARM
TRIGGER:-PT10M
DESCRIPTION:Class Reminder
ACTION:DISPLAY
END:VALARM
END:VEVENT
END:VCALENDAR