BEGIN:VCALENDAR
VERSION:2.0
CALSCALE:GREGORIAN
BEGIN:VEVENT
URL:https://www.learndesk.us/class/6272162908340224/lesson/8500acdcaa28d773ac1870a31c8704c8?ref=outlook-calendar
SUMMARY:Video
DTSTART;TZID=America/Los_Angeles:20260424T190000
DTEND;TZID=America/Los_Angeles:20260424T200000
LOCATION:https://www.learndesk.us/class/6272162908340224/lesson/8500acdcaa28d773ac1870a31c8704c8?ref=outlook-calendar
DESCRIPTION: 


Header 2

Header 3





Header 2
Retail Sales in U.S. Show Steepest Drop on Record Grocery stores, pharmacies and other essential sellers experienced a surge, but that was outweighed by a drastic decline in other categories.
Header 3

Dorothy followed her through many of the beautiful rooms in her castle.

A leading U.S. health official praised the World Health Organization the day after President Trump threatened to halt its fundinGov. Andrew Cuomo of New York said he&rsquo;d issue an order requiring people to wear masks in public when not social distancing. Here&rsquo;s the latest.

The study predicted that large swaths of ecosystems would falter in waves, creating sudden die-offs that would be catastrophic not only for wildlife, but for the humans who depend on it.
The HTML specification is maintained by the W3C.
This is a paragraph.



Syntax
Description




Header
Title


Paragraph
Text




Apple
Pomaceous fruit of plants of the genus Malus in the family...

https://www.learndesk.us/class/6272162908340224/lesson/8500acdcaa28d773ac1870a31c8704c8?ref=outlook-calendar
STATUS:CONFIRMED
SEQUENCE:3
BEGIN:VALARM
TRIGGER:-PT10M
DESCRIPTION:Class Reminder
ACTION:DISPLAY
END:VALARM
END:VEVENT
END:VCALENDAR