BEGIN:VCALENDAR
VERSION:2.0
CALSCALE:GREGORIAN
BEGIN:VEVENT
URL:https://www.learndesk.us/class/6272162908340224/lesson/77f3c0a68779a55a14224e11ca94d71b?ref=outlook-calendar
SUMMARY:Flashcards
DTSTART;TZID=America/Los_Angeles:20260424T190000
DTEND;TZID=America/Los_Angeles:20260424T200000
LOCATION:https://www.learndesk.us/class/6272162908340224/lesson/77f3c0a68779a55a14224e11ca94d71b?ref=outlook-calendar
DESCRIPTION: 
Headline 2
Headline 3
Font Courier New



https://www.learndesk.us/class/6272162908340224/lesson/77f3c0a68779a55a14224e11ca94d71b?ref=outlook-calendar
STATUS:CONFIRMED
SEQUENCE:3
BEGIN:VALARM
TRIGGER:-PT10M
DESCRIPTION:Class Reminder
ACTION:DISPLAY
END:VALARM
END:VEVENT
END:VCALENDAR