BEGIN:VCALENDAR
VERSION:2.0
CALSCALE:GREGORIAN
BEGIN:VEVENT
URL:https://www.learndesk.us/class/6243668727955456/lesson/c8c0bf7e348279e98e70fa50df65ffb9?ref=outlook-calendar
SUMMARY:Percents Example 3
DTSTART;TZID=America/Los_Angeles:20260426T190000
DTEND;TZID=America/Los_Angeles:20260426T200000
LOCATION:https://www.learndesk.us/class/6243668727955456/lesson/c8c0bf7e348279e98e70fa50df65ffb9?ref=outlook-calendar
DESCRIPTION: https://www.learndesk.us/class/6243668727955456/lesson/c8c0bf7e348279e98e70fa50df65ffb9?ref=outlook-calendar
STATUS:CONFIRMED
SEQUENCE:3
BEGIN:VALARM
TRIGGER:-PT10M
DESCRIPTION:Class Reminder
ACTION:DISPLAY
END:VALARM
END:VEVENT
END:VCALENDAR