BEGIN:VCALENDAR
VERSION:2.0
CALSCALE:GREGORIAN
BEGIN:VEVENT
URL:https://www.learndesk.us/class/6243668727955456/lesson/a9e979bf268331c72b1ec0b3c589a10e?ref=outlook-calendar
SUMMARY:Data Analysis Problem 10
DTSTART;TZID=America/Los_Angeles:20260422T190000
DTEND;TZID=America/Los_Angeles:20260422T200000
LOCATION:https://www.learndesk.us/class/6243668727955456/lesson/a9e979bf268331c72b1ec0b3c589a10e?ref=outlook-calendar
DESCRIPTION: https://www.learndesk.us/class/6243668727955456/lesson/a9e979bf268331c72b1ec0b3c589a10e?ref=outlook-calendar
STATUS:CONFIRMED
SEQUENCE:3
BEGIN:VALARM
TRIGGER:-PT10M
DESCRIPTION:Class Reminder
ACTION:DISPLAY
END:VALARM
END:VEVENT
END:VCALENDAR