BEGIN:VCALENDAR
VERSION:2.0
CALSCALE:GREGORIAN
BEGIN:VEVENT
URL:https://www.learndesk.us/class/6243668727955456/lesson/814ef9192571ca6ca5b0fb9a3378d01e?ref=outlook-calendar
SUMMARY:Geometry Lines and Angles 3
DTSTART;TZID=America/Los_Angeles:20260424T190000
DTEND;TZID=America/Los_Angeles:20260424T200000
LOCATION:https://www.learndesk.us/class/6243668727955456/lesson/814ef9192571ca6ca5b0fb9a3378d01e?ref=outlook-calendar
DESCRIPTION: https://www.learndesk.us/class/6243668727955456/lesson/814ef9192571ca6ca5b0fb9a3378d01e?ref=outlook-calendar
STATUS:CONFIRMED
SEQUENCE:3
BEGIN:VALARM
TRIGGER:-PT10M
DESCRIPTION:Class Reminder
ACTION:DISPLAY
END:VALARM
END:VEVENT
END:VCALENDAR