BEGIN:VCALENDAR
VERSION:2.0
CALSCALE:GREGORIAN
BEGIN:VEVENT
URL:https://www.learndesk.us/class/6243668727955456/lesson/7459c57a9fbc0f300f2ee57d39ac7aa3?ref=outlook-calendar
SUMMARY:What Does the SAT Measure 1
DTSTART;TZID=America/Los_Angeles:20260424T190000
DTEND;TZID=America/Los_Angeles:20260424T200000
LOCATION:https://www.learndesk.us/class/6243668727955456/lesson/7459c57a9fbc0f300f2ee57d39ac7aa3?ref=outlook-calendar
DESCRIPTION: https://www.learndesk.us/class/6243668727955456/lesson/7459c57a9fbc0f300f2ee57d39ac7aa3?ref=outlook-calendar
STATUS:CONFIRMED
SEQUENCE:3
BEGIN:VALARM
TRIGGER:-PT10M
DESCRIPTION:Class Reminder
ACTION:DISPLAY
END:VALARM
END:VEVENT
END:VCALENDAR