BEGIN:VCALENDAR
VERSION:2.0
CALSCALE:GREGORIAN
BEGIN:VEVENT
URL:https://www.learndesk.us/class/6243668727955456/lesson/68ceedf00c530e2d19b66fdf1eb47a67?ref=outlook-calendar
SUMMARY:Algebraic Expressions Order of Operations - PEMDAS
DTSTART;TZID=America/Los_Angeles:20260422T190000
DTEND;TZID=America/Los_Angeles:20260422T200000
LOCATION:https://www.learndesk.us/class/6243668727955456/lesson/68ceedf00c530e2d19b66fdf1eb47a67?ref=outlook-calendar
DESCRIPTION: https://www.learndesk.us/class/6243668727955456/lesson/68ceedf00c530e2d19b66fdf1eb47a67?ref=outlook-calendar
STATUS:CONFIRMED
SEQUENCE:3
BEGIN:VALARM
TRIGGER:-PT10M
DESCRIPTION:Class Reminder
ACTION:DISPLAY
END:VALARM
END:VEVENT
END:VCALENDAR