BEGIN:VCALENDAR
VERSION:2.0
CALSCALE:GREGORIAN
BEGIN:VEVENT
URL:https://www.learndesk.us/class/6243668727955456/sat-math-prep-course?ref=outlook-calendar
SUMMARY:SAT Math Prep Course
DTSTART;TZID=America/Los_Angeles:20260422T190000
DTEND;TZID=America/Los_Angeles:20260422T200000
LOCATION:https://www.learndesk.us/class/6243668727955456/sat-math-prep-course?ref=outlook-calendar
DESCRIPTION: 
Every year, students pay $1,000 and more to test prep companies to prepare for the math section of the SAT. Now you can get the same preparation in an online course. SAT Math Prep Course provides the equivalent of a 2-month, 50-hour course.
Although the SAT math section is steep, it is very learnable. SAT Math Prep Course presents a thorough analysis of SAT math and introduces numerous analytic techniques that will help you immensely, not only on the SAT but in college as well. 
The course contains all the text from the 410-page book SAT Math Prep Course, so it is fully self-contained. You will not need to get any outside materials for the course.
What is included in this course?

Videos: About 600 videos explaining the text, examples, and exercises in step-by-step detail.
Comprehensive Review: Twenty-two chapters provide a full review of SAT math.
Mentor Exercises: These exercises provide hints, insight, and partial solutions to ease your transition from seeing SAT problems...

https://www.learndesk.us/class/6243668727955456/sat-math-prep-course?ref=outlook-calendar
STATUS:CONFIRMED
SEQUENCE:3
BEGIN:VALARM
TRIGGER:-PT10M
DESCRIPTION:Class Reminder
ACTION:DISPLAY
END:VALARM
END:VEVENT
END:VCALENDAR