BEGIN:VCALENDAR
VERSION:2.0
CALSCALE:GREGORIAN
BEGIN:VEVENT
URL:https://www.learndesk.us/class/6234421545926656/lesson/f48469f988851e372b3fb786d617cf42?ref=outlook-calendar
SUMMARY:It's all about confidence
DTSTART;TZID=America/Los_Angeles:20260421T190000
DTEND;TZID=America/Los_Angeles:20260421T200000
LOCATION:https://www.learndesk.us/class/6234421545926656/lesson/f48469f988851e372b3fb786d617cf42?ref=outlook-calendar
DESCRIPTION: https://www.learndesk.us/class/6234421545926656/lesson/f48469f988851e372b3fb786d617cf42?ref=outlook-calendar
STATUS:CONFIRMED
SEQUENCE:3
BEGIN:VALARM
TRIGGER:-PT10M
DESCRIPTION:Class Reminder
ACTION:DISPLAY
END:VALARM
END:VEVENT
END:VCALENDAR