BEGIN:VCALENDAR
VERSION:2.0
CALSCALE:GREGORIAN
BEGIN:VEVENT
URL:https://www.learndesk.us/class/6234421545926656/lesson/a5cf1529a967598467d6a99c8c150dc1?ref=outlook-calendar
SUMMARY:Good night to you
DTSTART;TZID=America/Los_Angeles:20260420T190000
DTEND;TZID=America/Los_Angeles:20260420T200000
LOCATION:https://www.learndesk.us/class/6234421545926656/lesson/a5cf1529a967598467d6a99c8c150dc1?ref=outlook-calendar
DESCRIPTION: https://www.learndesk.us/class/6234421545926656/lesson/a5cf1529a967598467d6a99c8c150dc1?ref=outlook-calendar
STATUS:CONFIRMED
SEQUENCE:3
BEGIN:VALARM
TRIGGER:-PT10M
DESCRIPTION:Class Reminder
ACTION:DISPLAY
END:VALARM
END:VEVENT
END:VCALENDAR