BEGIN:VCALENDAR
VERSION:2.0
CALSCALE:GREGORIAN
BEGIN:VEVENT
URL:https://www.learndesk.us/class/6234421545926656/lesson/796989e7401103d7ca6e84d0437effd4?ref=outlook-calendar
SUMMARY:I'm by your door...
DTSTART;TZID=America/Los_Angeles:20260425T190000
DTEND;TZID=America/Los_Angeles:20260425T200000
LOCATION:https://www.learndesk.us/class/6234421545926656/lesson/796989e7401103d7ca6e84d0437effd4?ref=outlook-calendar
DESCRIPTION: https://www.learndesk.us/class/6234421545926656/lesson/796989e7401103d7ca6e84d0437effd4?ref=outlook-calendar
STATUS:CONFIRMED
SEQUENCE:3
BEGIN:VALARM
TRIGGER:-PT10M
DESCRIPTION:Class Reminder
ACTION:DISPLAY
END:VALARM
END:VEVENT
END:VCALENDAR