BEGIN:VCALENDAR
VERSION:2.0
CALSCALE:GREGORIAN
BEGIN:VEVENT
URL:https://www.learndesk.us/class/6234421545926656/lesson/74da7f7b232b1bf44545b5e5c7192f99?ref=outlook-calendar
SUMMARY:See you tomorrow Jenny
DTSTART;TZID=America/Los_Angeles:20260420T190000
DTEND;TZID=America/Los_Angeles:20260420T200000
LOCATION:https://www.learndesk.us/class/6234421545926656/lesson/74da7f7b232b1bf44545b5e5c7192f99?ref=outlook-calendar
DESCRIPTION: https://www.learndesk.us/class/6234421545926656/lesson/74da7f7b232b1bf44545b5e5c7192f99?ref=outlook-calendar
STATUS:CONFIRMED
SEQUENCE:3
BEGIN:VALARM
TRIGGER:-PT10M
DESCRIPTION:Class Reminder
ACTION:DISPLAY
END:VALARM
END:VEVENT
END:VCALENDAR