BEGIN:VCALENDAR
VERSION:2.0
CALSCALE:GREGORIAN
BEGIN:VEVENT
URL:https://www.learndesk.us/class/6234421545926656/lesson/66d68cd1cebff368e8092f9edf479b9f?ref=outlook-calendar
SUMMARY:Lesson 7 - Women + West = Desire
DTSTART;TZID=America/Los_Angeles:20260421T190000
DTEND;TZID=America/Los_Angeles:20260421T200000
LOCATION:https://www.learndesk.us/class/6234421545926656/lesson/66d68cd1cebff368e8092f9edf479b9f?ref=outlook-calendar
DESCRIPTION: In lesson 7 we’ll learn more words related to family and home

https://www.learndesk.us/class/6234421545926656/lesson/66d68cd1cebff368e8092f9edf479b9f?ref=outlook-calendar
STATUS:CONFIRMED
SEQUENCE:3
BEGIN:VALARM
TRIGGER:-PT10M
DESCRIPTION:Class Reminder
ACTION:DISPLAY
END:VALARM
END:VEVENT
END:VCALENDAR