BEGIN:VCALENDAR
VERSION:2.0
CALSCALE:GREGORIAN
BEGIN:VEVENT
URL:https://www.learndesk.us/class/6234421545926656/lesson/5e198e4066b5decf20dbfeb13d74f7f4?ref=outlook-calendar
SUMMARY:Lesson 11 - Balling
DTSTART;TZID=America/Los_Angeles:20260425T190000
DTEND;TZID=America/Los_Angeles:20260425T200000
LOCATION:https://www.learndesk.us/class/6234421545926656/lesson/5e198e4066b5decf20dbfeb13d74f7f4?ref=outlook-calendar
DESCRIPTION: In lesson 11 we’ll learn about resultative verbs, Felix’s favorite topic!

https://www.learndesk.us/class/6234421545926656/lesson/5e198e4066b5decf20dbfeb13d74f7f4?ref=outlook-calendar
STATUS:CONFIRMED
SEQUENCE:3
BEGIN:VALARM
TRIGGER:-PT10M
DESCRIPTION:Class Reminder
ACTION:DISPLAY
END:VALARM
END:VEVENT
END:VCALENDAR