BEGIN:VCALENDAR
VERSION:2.0
CALSCALE:GREGORIAN
BEGIN:VEVENT
URL:https://www.learndesk.us/class/6234421545926656/lesson/47f19c9d70339d766c43ab8a704f3f6c?ref=outlook-calendar
SUMMARY:Any seats please?
DTSTART;TZID=America/Los_Angeles:20260421T190000
DTEND;TZID=America/Los_Angeles:20260421T200000
LOCATION:https://www.learndesk.us/class/6234421545926656/lesson/47f19c9d70339d766c43ab8a704f3f6c?ref=outlook-calendar
DESCRIPTION: https://www.learndesk.us/class/6234421545926656/lesson/47f19c9d70339d766c43ab8a704f3f6c?ref=outlook-calendar
STATUS:CONFIRMED
SEQUENCE:3
BEGIN:VALARM
TRIGGER:-PT10M
DESCRIPTION:Class Reminder
ACTION:DISPLAY
END:VALARM
END:VEVENT
END:VCALENDAR