BEGIN:VCALENDAR
VERSION:2.0
CALSCALE:GREGORIAN
BEGIN:VEVENT
URL:https://www.learndesk.us/class/6234421545926656/lesson/2b84465fb02c9e943ab47c1ed8aeaea0?ref=outlook-calendar
SUMMARY:Lesson 10 - How about my talent?
DTSTART;TZID=America/Los_Angeles:20260421T190000
DTEND;TZID=America/Los_Angeles:20260421T200000
LOCATION:https://www.learndesk.us/class/6234421545926656/lesson/2b84465fb02c9e943ab47c1ed8aeaea0?ref=outlook-calendar
DESCRIPTION: In lesson 10 we’ll learn how to add more subjects to the sentence along with some good-bye terms.

https://www.learndesk.us/class/6234421545926656/lesson/2b84465fb02c9e943ab47c1ed8aeaea0?ref=outlook-calendar
STATUS:CONFIRMED
SEQUENCE:3
BEGIN:VALARM
TRIGGER:-PT10M
DESCRIPTION:Class Reminder
ACTION:DISPLAY
END:VALARM
END:VEVENT
END:VCALENDAR