BEGIN:VCALENDAR
VERSION:2.0
CALSCALE:GREGORIAN
BEGIN:VEVENT
URL:https://www.learndesk.us/class/6234421545926656/lesson/11281acff65859ea5b365dd4be5e3d74?ref=outlook-calendar
SUMMARY:Here's DominoChinese!
DTSTART;TZID=America/Los_Angeles:20260420T190000
DTEND;TZID=America/Los_Angeles:20260420T200000
LOCATION:https://www.learndesk.us/class/6234421545926656/lesson/11281acff65859ea5b365dd4be5e3d74?ref=outlook-calendar
DESCRIPTION: We have a study group, where all our happy domino students can coexist, that you should most definitely join. You can ask questions and practice your Chinese here. 

- Download "Wechat" on your phone, if you don't have it already. It's completely free and a necessity. 

- Then add me personally and I'll add you into the study group. Search for "lattmanfelix".

See you there! 

Enjoy!

https://www.learndesk.us/class/6234421545926656/lesson/11281acff65859ea5b365dd4be5e3d74?ref=outlook-calendar
STATUS:CONFIRMED
SEQUENCE:3
BEGIN:VALARM
TRIGGER:-PT10M
DESCRIPTION:Class Reminder
ACTION:DISPLAY
END:VALARM
END:VEVENT
END:VCALENDAR