BEGIN:VCALENDAR
VERSION:2.0
CALSCALE:GREGORIAN
BEGIN:VEVENT
URL:https://www.learndesk.us/class/6234421545926656/lesson/05872976efe217c61a883616a9b1c392?ref=outlook-calendar
SUMMARY:Lesson 20 All the foods
DTSTART;TZID=America/Los_Angeles:20260421T190000
DTEND;TZID=America/Los_Angeles:20260421T200000
LOCATION:https://www.learndesk.us/class/6234421545926656/lesson/05872976efe217c61a883616a9b1c392?ref=outlook-calendar
DESCRIPTION: In lesson 20 we’ll learn the rest of the food words and some swear words.

https://www.learndesk.us/class/6234421545926656/lesson/05872976efe217c61a883616a9b1c392?ref=outlook-calendar
STATUS:CONFIRMED
SEQUENCE:3
BEGIN:VALARM
TRIGGER:-PT10M
DESCRIPTION:Class Reminder
ACTION:DISPLAY
END:VALARM
END:VEVENT
END:VCALENDAR