BEGIN:VCALENDAR
VERSION:2.0
CALSCALE:GREGORIAN
BEGIN:VEVENT
URL:https://www.learndesk.us/class/6220023301406720/lesson/ab500cc12228865fe8d942a6fbeb8ac3?ref=outlook-calendar
SUMMARY:The Art of Confidence: Step 7 - Crush Your Fears
DTSTART;TZID=America/Los_Angeles:20260420T190000
DTEND;TZID=America/Los_Angeles:20260420T200000
LOCATION:https://www.learndesk.us/class/6220023301406720/lesson/ab500cc12228865fe8d942a6fbeb8ac3?ref=outlook-calendar
DESCRIPTION: In Step 6, we looked at the most common 17 confidence killers and their antidotes.
In this step, Step 7, it&rsquo;s all about crushing your fears:

We will start by looking at what happens when you leave your comfort zone.
We will look at the most common fears.
And then we will go through 14 Hacks to crush your fears.

Now you can watch the 9-minute video, then click on the link below to download and print your Personal Tasks. These should take you approximately 35 minutes, so allow a total of about 45 minutes for this lesson.
As this course is accredited with the CPD and will count towards your professional education, please note that you will need to submit all your Personal Tasks to me at the end of the program to receive your Certificate of completion. I will also look at your quiz results. So make sure you do all Tasks and Quizzes.
Enjoy.


https://www.learndesk.us/class/6220023301406720/lesson/ab500cc12228865fe8d942a6fbeb8ac3?ref=outlook-calendar
STATUS:CONFIRMED
SEQUENCE:3
BEGIN:VALARM
TRIGGER:-PT10M
DESCRIPTION:Class Reminder
ACTION:DISPLAY
END:VALARM
END:VEVENT
END:VCALENDAR