BEGIN:VCALENDAR
VERSION:2.0
CALSCALE:GREGORIAN
BEGIN:VEVENT
URL:https://www.learndesk.us/class/6218007179165696/lesson/fcc7bbb9d34439dd2dcd09efd2844ed0?ref=outlook-calendar
SUMMARY:Week 4 - Day 3
DTSTART;TZID=America/Los_Angeles:20260422T190000
DTEND;TZID=America/Los_Angeles:20260422T200000
LOCATION:https://www.learndesk.us/class/6218007179165696/lesson/fcc7bbb9d34439dd2dcd09efd2844ed0?ref=outlook-calendar
DESCRIPTION: Today is a very important first step towards your future. If you are someone who is looking for passion, career or a new hobby, take this exercise extra seriously. 

Also, I talk about the courage to turn down an opportunity. I have found life throwing distractions at me all the time when I finally decide on a plan. It is as if life is testing me if I really want a dream so badly, I'm willing to walk away from something tempting that would drive me away from my plan. 

I'm sure you noticed how as soon as you start dating, everyone wants to date you, but for months no one was interested. Or when you decide to leave work because you had enough you suddenly get a raise, or when you finally decided to buy a car unexpected bills come in. It is like everything is against you. Take it as life's tests. How badly do you want to pursue your plan? Are you willing to overcome these challenges? Can you keep focused with all these distractions? 

Here is an amazing article from Mihaly...

https://www.learndesk.us/class/6218007179165696/lesson/fcc7bbb9d34439dd2dcd09efd2844ed0?ref=outlook-calendar
STATUS:CONFIRMED
SEQUENCE:3
BEGIN:VALARM
TRIGGER:-PT10M
DESCRIPTION:Class Reminder
ACTION:DISPLAY
END:VALARM
END:VEVENT
END:VCALENDAR