BEGIN:VCALENDAR
VERSION:2.0
CALSCALE:GREGORIAN
BEGIN:VEVENT
URL:https://www.learndesk.us/class/6218007179165696/lesson/f9d0fc13252b3861556dd23540bf5e6e?ref=outlook-calendar
SUMMARY:Week 1 - Day 3
DTSTART;TZID=America/Los_Angeles:20260422T190000
DTEND;TZID=America/Los_Angeles:20260422T200000
LOCATION:https://www.learndesk.us/class/6218007179165696/lesson/f9d0fc13252b3861556dd23540bf5e6e?ref=outlook-calendar
DESCRIPTION: I encourage you today to start a daily journal if you want to document the changes in your confidence. It could be a great way to see your development in detail.

https://www.learndesk.us/class/6218007179165696/lesson/f9d0fc13252b3861556dd23540bf5e6e?ref=outlook-calendar
STATUS:CONFIRMED
SEQUENCE:3
BEGIN:VALARM
TRIGGER:-PT10M
DESCRIPTION:Class Reminder
ACTION:DISPLAY
END:VALARM
END:VEVENT
END:VCALENDAR