BEGIN:VCALENDAR
VERSION:2.0
CALSCALE:GREGORIAN
BEGIN:VEVENT
URL:https://www.learndesk.us/class/6218007179165696/lesson/f743f84dce023a2aee2d1848fc3d12ed?ref=outlook-calendar
SUMMARY:Week 4 - Day 1
DTSTART;TZID=America/Los_Angeles:20260422T190000
DTEND;TZID=America/Los_Angeles:20260422T200000
LOCATION:https://www.learndesk.us/class/6218007179165696/lesson/f743f84dce023a2aee2d1848fc3d12ed?ref=outlook-calendar
DESCRIPTION: Have you heard that a picture says a 1000 words? So do your friends, your home, your surroundings, your habits, your clothing, and everything. Studies show that at least 75% of our communication is nonverbal. Learning how to communicate a positive message without words is going to be one of the keys focuses this week.

https://www.learndesk.us/class/6218007179165696/lesson/f743f84dce023a2aee2d1848fc3d12ed?ref=outlook-calendar
STATUS:CONFIRMED
SEQUENCE:3
BEGIN:VALARM
TRIGGER:-PT10M
DESCRIPTION:Class Reminder
ACTION:DISPLAY
END:VALARM
END:VEVENT
END:VCALENDAR