BEGIN:VCALENDAR
VERSION:2.0
CALSCALE:GREGORIAN
BEGIN:VEVENT
URL:https://www.learndesk.us/class/6218007179165696/lesson/f5471ac7bfc4fdaa593afd9238710073?ref=outlook-calendar
SUMMARY:Week 1
DTSTART;TZID=America/Los_Angeles:20260422T190000
DTEND;TZID=America/Los_Angeles:20260422T200000
LOCATION:https://www.learndesk.us/class/6218007179165696/lesson/f5471ac7bfc4fdaa593afd9238710073?ref=outlook-calendar
DESCRIPTION: Welcome again to the My Seven Worlds self-love course. I'm very happy to see that you are ready to make positive changes in your life. Let me walk you through what you can expect and what's required from you.

1. This course demands full self-motivation. If you want to get the most out of the course, you must be prepared to do it every day for the next 4 weeks. We are all busy people with full schedules, so I made sure the maximum time per day you spend on this course will not exceed 20 minutes. All through the course, I will explain why I ask you to do certain exercises, so don't worry if you don't see the point at first. The puzzle piece will all fall into their places.

2. The time you spend on the course will gradually increase week by week. Why? Because when you start running after not having to exercise for 6 months, you don't start by running half a Marathon. The same rule applies here, if you overdo it, you will burn out. So don't try to get results by doing the exercises...

https://www.learndesk.us/class/6218007179165696/lesson/f5471ac7bfc4fdaa593afd9238710073?ref=outlook-calendar
STATUS:CONFIRMED
SEQUENCE:3
BEGIN:VALARM
TRIGGER:-PT10M
DESCRIPTION:Class Reminder
ACTION:DISPLAY
END:VALARM
END:VEVENT
END:VCALENDAR