BEGIN:VCALENDAR
VERSION:2.0
CALSCALE:GREGORIAN
BEGIN:VEVENT
URL:https://www.learndesk.us/class/6218007179165696/lesson/cf24d1e79abbc2df086a29fe9bafd2bf?ref=outlook-calendar
SUMMARY:Week 2 - Day 4
DTSTART;TZID=America/Los_Angeles:20260422T190000
DTEND;TZID=America/Los_Angeles:20260422T200000
LOCATION:https://www.learndesk.us/class/6218007179165696/lesson/cf24d1e79abbc2df086a29fe9bafd2bf?ref=outlook-calendar
DESCRIPTION: Make accurate observations of your feelings today. It is important you learn to feel what your soul needs, as once the course ends, you will have to carry on with your self-development to ensure future self-love.

https://www.learndesk.us/class/6218007179165696/lesson/cf24d1e79abbc2df086a29fe9bafd2bf?ref=outlook-calendar
STATUS:CONFIRMED
SEQUENCE:3
BEGIN:VALARM
TRIGGER:-PT10M
DESCRIPTION:Class Reminder
ACTION:DISPLAY
END:VALARM
END:VEVENT
END:VCALENDAR