BEGIN:VCALENDAR
VERSION:2.0
CALSCALE:GREGORIAN
BEGIN:VEVENT
URL:https://www.learndesk.us/class/6218007179165696/lesson/cac72a9f997b582d8258cfdd5b053966?ref=outlook-calendar
SUMMARY:Week 3 - Day 5
DTSTART;TZID=America/Los_Angeles:20260422T190000
DTEND;TZID=America/Los_Angeles:20260422T200000
LOCATION:https://www.learndesk.us/class/6218007179165696/lesson/cac72a9f997b582d8258cfdd5b053966?ref=outlook-calendar
DESCRIPTION: Start giving your overflowing love to anything and anyone who could use some of it today.

https://www.learndesk.us/class/6218007179165696/lesson/cac72a9f997b582d8258cfdd5b053966?ref=outlook-calendar
STATUS:CONFIRMED
SEQUENCE:3
BEGIN:VALARM
TRIGGER:-PT10M
DESCRIPTION:Class Reminder
ACTION:DISPLAY
END:VALARM
END:VEVENT
END:VCALENDAR