BEGIN:VCALENDAR
VERSION:2.0
CALSCALE:GREGORIAN
BEGIN:VEVENT
URL:https://www.learndesk.us/class/6218007179165696/lesson/c949f6fef765174493a2d1d7c59dafc4?ref=outlook-calendar
SUMMARY:Week 3 - Day 1
DTSTART;TZID=America/Los_Angeles:20260422T190000
DTEND;TZID=America/Los_Angeles:20260422T200000
LOCATION:https://www.learndesk.us/class/6218007179165696/lesson/c949f6fef765174493a2d1d7c59dafc4?ref=outlook-calendar
DESCRIPTION: Think about love as a glass. For the first 2 weeks, you had been filling your glass of love, but what happens when the glass is full? It overflows. That is the love that you can give away. If you give the love away that you would need to fill your glass with, you are essentially giving away your resources to your happiness. It is important to learn to prioritize yourself by not stepping over others, yet you maintain your glass full and you only give the excess love away.

If you are not happy, you can't make anyone happy. Focus on your happiness first, then once you are there, you can share your learnings, love, happiness to bring brightness in people's lives, but you come first.

https://www.learndesk.us/class/6218007179165696/lesson/c949f6fef765174493a2d1d7c59dafc4?ref=outlook-calendar
STATUS:CONFIRMED
SEQUENCE:3
BEGIN:VALARM
TRIGGER:-PT10M
DESCRIPTION:Class Reminder
ACTION:DISPLAY
END:VALARM
END:VEVENT
END:VCALENDAR